BEGIN:VCALENDAR
VERSION:2.0
PRODID:-//ChamberMaster//Event Calendar 2.0//EN
METHOD:PUBLISH
X-PUBLISHED-TTL:P3D
REFRESH-INTERVAL:P3D
CALSCALE:GREGORIAN
BEGIN:VEVENT
DTSTART:20180519T003000Z
DTEND:20180519T050000Z
X-MICROSOFT-CDO-ALLDAYEVENT:FALSE
SUMMARY:Play 4 All Park-2nd Annual Fundraiser
DESCRIPTION:A Park 4 Children of All Abilities & Disabilities! \n\n\n\n2nd Annual Fundraiser- Dine and Dance with us Again!\n\n\n\nSilent Auction\, Live Auctions\, and Dessert Auctions\n\n\n\nDress is business casual\, seating is limited (but the fun isn't)\n\n\n\nDine and Dance with us to Vacaville's own Tufftones!
X-ALT-DESC;FMTTYPE=text/html:A Park 4 Children of All Abilities &amp\; Disabilities!&nbsp\;<br />\n<br />\n2nd Annual Fundraiser- Dine and Dance with us Again!<br />\n<br />\nSilent Auction\, Live Auctions\, and Dessert Auctions<br />\n<br />\nDress is business casual\, seating is limited (but the fun isn&#39\;t)<br />\n<br />\nDine and Dance with us to Vacaville&#39\;s own Tufftones!
LOCATION:Sunrise Event Center 620 Orange Drive Vacaville\, Ca
UID:e.1559.2087
SEQUENCE:3
DTSTAMP:20260419T184459Z
URL:https://business.vacavillechamber.com/events/details/play-4-all-park-2nd-annual-fundraiser-2087
END:VEVENT

END:VCALENDAR
