BEGIN:VCALENDAR
VERSION:2.0
PRODID:-//ChamberMaster//Event Calendar 2.0//EN
METHOD:PUBLISH
X-PUBLISHED-TTL:P3D
REFRESH-INTERVAL:P3D
CALSCALE:GREGORIAN
BEGIN:VEVENT
DTSTART:20161008T200000Z
DTEND:20161009T000000Z
X-MICROSOFT-CDO-ALLDAYEVENT:FALSE
SUMMARY:PinkFest 4
DESCRIPTION:SAVE THE DATE!\n\nCome celebrate our 4th annual Pink Fest fundraiser!\n\nYour participation and support helps us continue to serve individuals and their families fighting cancer. \n\nThank you for your support. More details to follow.\n\nSimilar to previous Pink Fests\, there will be food and wine available for purchase\, raffles for great prizes and amazing music! We look forward to seeing you there!\n\nDoors open at 12:00pm\n\nEvent starts at 1:00pm\n\n$25 p/p\n\nFirst 125 guests in the door get a free wine glass\n\n\n\nTickets available at Eventbrite:\n\nhttps://www.eventbrite.com/e/pink-fest-2016-supporting-pink-lemonades-fight-against-cancer-tickets-27041589121
X-ALT-DESC;FMTTYPE=text/html:<span style="color:rgb(75\, 79\, 86)\; font-family:helvetica\,arial\,sans-serif\; font-size:14px">SAVE THE DATE!</span><br />\n<span style="color:rgb(75\, 79\, 86)\; font-family:helvetica\,arial\,sans-serif\; font-size:14px">Come celebrate our 4th annual Pink Fest fundraiser!</span><br />\n<span style="color:rgb(75\, 79\, 86)\; font-family:helvetica\,arial\,sans-serif\; font-size:14px">Your participation and support helps us continue to serve individuals and their families fighting cancer.&nbsp\;</span><br />\n<span style="color:rgb(75\, 79\, 86)\; font-family:helvetica\,arial\,sans-serif\; font-size:14px">Thank you for your support. More details to follow.</span><br />\n<span style="color:rgb(75\, 79\, 86)\; font-family:helvetica\,arial\,sans-serif\; font-size:14px">Similar to previous Pink Fests\, there will be food and wine available for purchase\, raffles for great prizes and amazing music! We look forward to seeing you there!</span><br />\n<span style="color:rgb(75\, 79\, 86)\; font-family:helvetica\,arial\,sans-serif\; font-size:14px">Doors open at 12:00pm</span><br />\n<span style="color:rgb(75\, 79\, 86)\; font-family:helvetica\,arial\,sans-serif\; font-size:14px">Event starts at 1:00pm</span><br />\n<span style="color:rgb(75\, 79\, 86)\; font-family:helvetica\,arial\,sans-serif\; font-size:14px">$25 p/p<br />\nFirst 125 guests in the door get a free wine glass<br />\n<br />\nTickets available at Eventbrite:</span><br />\nhttps://www.eventbrite.com/e/pink-fest-2016-supporting-pink-lemonades-fight-against-cancer-tickets-27041589121
LOCATION:Vino Godfather Mansion 500 Walnut Ave Vallejo\, Ca (Mare Island)
UID:e.1559.1907
SEQUENCE:3
DTSTAMP:20260420T194654Z
URL:https://business.vacavillechamber.com/events/details/pinkfest-4-1907
END:VEVENT

END:VCALENDAR
