BEGIN:VCALENDAR
VERSION:2.0
PRODID:-//ChamberMaster//Event Calendar 2.0//EN
METHOD:PUBLISH
X-PUBLISHED-TTL:P3D
REFRESH-INTERVAL:P3D
CALSCALE:GREGORIAN
BEGIN:VEVENT
DTSTART:20160221T013000Z
DTEND:20160221T053000Z
X-MICROSOFT-CDO-ALLDAYEVENT:FALSE
SUMMARY:Pink & Black Charity Ball
DESCRIPTION:Pick out your best Pink & Black Cocktail attire and join us for an evening of celebrating life\, raising money for charity\, and dancing the night away.\n\n\n\nFormal seated dinner catered by a local chef\, live music by Hey Jude\, silent auction\, and a pink cupcake bar!\n\n\n\nA portion of the ticket sales & wine sales will go to Pink Lemonade.\n\n\n\n$99/ per person\n\n$79/ per person Chieftain Member (of Vezer Family Vineyards)\n\n$89 per person Elite/Ambassador Member (of Vezer Family Vineyards)\n\n\n\nRSVP to Laura Cooke laura@vezer.com 707-389-0824\n\n \n\nwww.cellarpass.com/pink-black-charity-ball-tickets-1210
X-ALT-DESC;FMTTYPE=text/html:<span style="color: rgb(20\, 24\, 35)\; font-family: helvetica\,arial\,sans-serif\; font-size: 14px\;">Pick out your best Pink &amp\; Black Cocktail attire and join us for an evening of celebrating life\, raising money for charity\, and dancing the night away.</span><br />\n<br />\n<span style="color: rgb(20\, 24\, 35)\; font-family: helvetica\,arial\,sans-serif\; font-size: 14px\;">Formal seated dinner catered by a local chef\, live music by Hey Jude\, silent auction\, and a pink cupcake bar!</span><br />\n<br />\n<span style="color: rgb(20\, 24\, 35)\; font-family: helvetica\,arial\,sans-serif\; font-size: 14px\;">A portion of the ticket sales &amp\; wine sales will go to <strong>Pink Lemonade</strong>.<br />\n<br />\n$99/ per person<br />\n$79/ per person Chieftain Member&nbsp\;(of Vezer Family Vineyards)<br />\n$89 per person Elite/Ambassador Member&nbsp\;(of Vezer Family Vineyards)<br />\n<br />\nRSVP to Laura Cooke laura@vezer.com 707-389-0824</span><br />\n&nbsp\;\n<div>\n<div><a href="http://www.cellarpass.com/pink-black-charity-ball-tickets-1210" style="color: rgb(17\, 85\, 204)\;" target="_blank">www.cellarpass.com/pink-black-charity-ball-tickets-1210</a></div>\n</div>\n
LOCATION:The Blue Victorian Winery 5071 Suisun Valley Rd. Fairfield\, CA 94534
UID:e.1559.1815
SEQUENCE:3
DTSTAMP:20260421T055345Z
URL:https://business.vacavillechamber.com/events/details/pink-black-charity-ball-02-20-2016-1815
END:VEVENT

END:VCALENDAR
