BEGIN:VCALENDAR
VERSION:2.0
PRODID:-//ChamberMaster//Event Calendar 2.0//EN
METHOD:PUBLISH
X-PUBLISHED-TTL:P3D
REFRESH-INTERVAL:P3D
CALSCALE:GREGORIAN
BEGIN:VEVENT
DTSTART:20170813T190000Z
DTEND:20170814T010000Z
X-MICROSOFT-CDO-ALLDAYEVENT:FALSE
SUMMARY:Outdoor Benefit Music Concert & Festival-benefiting Meals on Wheels of Solano County
DESCRIPTION:Outdoor Benefit Music Concert & Festival for Meals on Wheels of Solano County. \n\n\n\nBand Line up: Beer Brothers\, Liquid Smoke\, Eddie Neon\, Robert "Hollywood: Jenkins\, Charlie Wade Blues Band
X-ALT-DESC;FMTTYPE=text/html:Outdoor Benefit Music Concert&nbsp\;&amp\; Festival for Meals on Wheels of Solano County.&nbsp\;<br />\n<br />\nBand Line up: Beer Brothers\, Liquid Smoke\, Eddie Neon\, Robert &quot\;Hollywood: Jenkins\, Charlie Wade Blues Band
LOCATION:Vino Godfather Mare Island 500 Walnut Ave\, Vallejo
UID:e.1559.2002
SEQUENCE:3
DTSTAMP:20260420T065028Z
URL:https://business.vacavillechamber.com/events/details/outdoor-benefit-music-concert-festival-benefiting-meals-on-wheels-of-solano-county-2002
END:VEVENT

END:VCALENDAR
