BEGIN:VCALENDAR
VERSION:2.0
PRODID:-//ChamberMaster//Event Calendar 2.0//EN
METHOD:PUBLISH
X-PUBLISHED-TTL:P3D
REFRESH-INTERVAL:P3D
CALSCALE:GREGORIAN
BEGIN:VEVENT
DTSTART;VALUE=DATE:20171222
DTEND;VALUE=DATE:20180102
TRANSP:TRANSPARENT
X-MICROSOFT-CDO-ALLDAYEVENT:TRUE
SUMMARY:Office closed for the holidays
DESCRIPTION:We wish you a Merry Christmas and a Happy New Year!
X-ALT-DESC;FMTTYPE=text/html:We wish you a Merry Christmas and a Happy New Year!
LOCATION:
UID:e.1559.2048
SEQUENCE:3
DTSTAMP:20260420T001208Z
URL:https://business.vacavillechamber.com/events/details/office-closed-for-the-holidays-2048
END:VEVENT

END:VCALENDAR
