BEGIN:VCALENDAR
VERSION:2.0
PRODID:-//ChamberMaster//Event Calendar 2.0//EN
METHOD:PUBLISH
X-PUBLISHED-TTL:P3D
REFRESH-INTERVAL:P3D
CALSCALE:GREGORIAN
BEGIN:VEVENT
DTSTART;VALUE=DATE:20151225
DTEND;VALUE=DATE:20160102
TRANSP:TRANSPARENT
X-MICROSOFT-CDO-ALLDAYEVENT:TRUE
SUMMARY:Office Closed for Holidays
DESCRIPTION:Merry Christmas & Happy New Year
X-ALT-DESC;FMTTYPE=text/html:Merry Christmas &amp\; Happy New Year
LOCATION:
UID:e.1559.1790
SEQUENCE:3
DTSTAMP:20260421T070628Z
URL:https://business.vacavillechamber.com/events/details/office-closed-for-holidays-12-25-2015-1790
END:VEVENT

END:VCALENDAR
