BEGIN:VCALENDAR
VERSION:2.0
PRODID:-//ChamberMaster//Event Calendar 2.0//EN
METHOD:PUBLISH
X-PUBLISHED-TTL:P3D
REFRESH-INTERVAL:P3D
CALSCALE:GREGORIAN
BEGIN:VEVENT
DTSTART;VALUE=DATE:20180528
DTEND;VALUE=DATE:20180529
TRANSP:TRANSPARENT
X-MICROSOFT-CDO-ALLDAYEVENT:TRUE
SUMMARY:Office closed
DESCRIPTION:Office closed in observance of Memorial Day.
X-ALT-DESC;FMTTYPE=text/html:Office closed in observance of&nbsp\;Memorial Day.
LOCATION:
UID:e.1559.2089
SEQUENCE:3
DTSTAMP:20260419T184041Z
URL:https://business.vacavillechamber.com/events/details/office-closed-2089
END:VEVENT

END:VCALENDAR
