BEGIN:VCALENDAR
VERSION:2.0
PRODID:-//ChamberMaster//Event Calendar 2.0//EN
METHOD:PUBLISH
X-PUBLISHED-TTL:P3D
REFRESH-INTERVAL:P3D
CALSCALE:GREGORIAN
BEGIN:VEVENT
DTSTART:20180520T000000Z
DTEND:20180520T050000Z
X-MICROSOFT-CDO-ALLDAYEVENT:FALSE
SUMMARY:NorthBay Healthcare Foundation's Wine and Food Jubilee
DESCRIPTION:NorthBay Healthcare Foundation's\n\nWine and Food Jubilee
X-ALT-DESC;FMTTYPE=text/html:NorthBay Healthcare Foundation&#39\;s<br />\nWine and Food Jubilee
LOCATION:Harbison Events Center Courtyard
UID:e.1559.2019
SEQUENCE:3
DTSTAMP:20260419T184820Z
URL:https://business.vacavillechamber.com/events/details/northbay-healthcare-foundation-s-wine-and-food-jubilee-2019
END:VEVENT

END:VCALENDAR
