BEGIN:VCALENDAR
VERSION:2.0
PRODID:-//ChamberMaster//Event Calendar 2.0//EN
METHOD:PUBLISH
X-PUBLISHED-TTL:P3D
REFRESH-INTERVAL:P3D
CALSCALE:GREGORIAN
BEGIN:VEVENT
DTSTART:20180225T020000Z
DTEND:20180225T050000Z
X-MICROSOFT-CDO-ALLDAYEVENT:FALSE
SUMMARY:NorthBay Healthcare Foundation's Open the Bottle Night
DESCRIPTION:NorthBay Healthcare Foundation's\n\nOpen the Bottle Night
X-ALT-DESC;FMTTYPE=text/html:NorthBay Healthcare Foundation&#39\;s<br />\nOpen the Bottle Night
LOCATION:Hilton Garden Inn Fairfield
UID:e.1559.2018
SEQUENCE:3
DTSTAMP:20260419T230116Z
URL:https://business.vacavillechamber.com/events/details/northbay-healthcare-foundation-s-open-the-bottle-night-2018
END:VEVENT

END:VCALENDAR
