BEGIN:VCALENDAR
VERSION:2.0
PRODID:-//ChamberMaster//Event Calendar 2.0//EN
METHOD:PUBLISH
X-PUBLISHED-TTL:P3D
REFRESH-INTERVAL:P3D
CALSCALE:GREGORIAN
BEGIN:VEVENT
DTSTART:20160519T143000Z
DTEND:20160519T170000Z
X-MICROSOFT-CDO-ALLDAYEVENT:FALSE
SUMMARY:NorthBay Healthcare & Chamber Employer Broker Breakfast
DESCRIPTION:Learn about employer healthcare regulations and options from Broker Brad Davis.
X-ALT-DESC;FMTTYPE=text/html:Learn about employer healthcare regulations and options from Broker Brad Davis.
LOCATION:Holiday Inn & Suites 151 Lawrence Rd Vacaville
UID:e.1559.1868
SEQUENCE:3
DTSTAMP:20260421T021550Z
URL:https://business.vacavillechamber.com/events/details/northbay-healthcare-chamber-employer-broker-breakfast-05-19-2016-1868
END:VEVENT

END:VCALENDAR
