BEGIN:VCALENDAR
VERSION:2.0
PRODID:-//ChamberMaster//Event Calendar 2.0//EN
METHOD:PUBLISH
X-PUBLISHED-TTL:P3D
REFRESH-INTERVAL:P3D
CALSCALE:GREGORIAN
BEGIN:VEVENT
DTSTART:20250627T010000Z
DTEND:20250627T043000Z
X-MICROSOFT-CDO-ALLDAYEVENT:FALSE
SUMMARY:Night of Champions Annual Gala 2025
DESCRIPTION:Welcome to the Night of Champions Annual Gala\, a tradition hosted by the Vacaville Chamber. Join us as we honor businesses and individuals who exemplify excellence within our community. Each year\, we recognize those nominated by their peers for their achievements\, celebrate our Board of Directors and our members\, and have a fabulous evening of networking and fun!\n\n\n\nWe will honor our:\n\n	Board of Directors\n	Business of the Year\n	Public Servant of the Year\n	Ambassador of the Year\n	Young Professional of the Year\n\nWe look forward to having you join us for a memorable evening and awards ceremony\, and hope you will be part of our celebration!
X-ALT-DESC;FMTTYPE=text/html:Welcome to the Night of Champions Annual Gala\, a tradition hosted by the Vacaville Chamber. Join us as we honor businesses and individuals who exemplify excellence within our community. Each year\, we recognize those nominated by their peers for their achievements\, celebrate our Board of Directors and our members\, and have a fabulous evening of networking and fun!<br />\n<br />\nWe will honor our:\n<ul>\n	<li>Board of Directors</li>\n	<li>Business of the Year</li>\n	<li>Public Servant of the Year</li>\n	<li>Ambassador of the Year</li>\n	<li>Young Professional of the Year</li>\n</ul>\nWe look forward to having you join us for a memorable evening and awards ceremony\, and hope you will be part of our celebration!
LOCATION:NEW LOCATION! Sunrise Event Center Pavilion Newly renovated\, both inside and out. Located on the corner of Orange Drive and Orange Tree Circle. 620 Orange Drive Vacaville\, CA 95687
UID:e.1559.6450
SEQUENCE:3
DTSTAMP:20260421T123707Z
URL:https://business.vacavillechamber.com/events/details/night-of-champions-annual-gala-2025-6450
END:VEVENT

END:VCALENDAR
