BEGIN:VCALENDAR
VERSION:2.0
PRODID:-//ChamberMaster//Event Calendar 2.0//EN
METHOD:PUBLISH
X-PUBLISHED-TTL:P3D
REFRESH-INTERVAL:P3D
CALSCALE:GREGORIAN
BEGIN:VEVENT
DTSTART:20180630T010000Z
DTEND:20180630T040000Z
X-MICROSOFT-CDO-ALLDAYEVENT:FALSE
SUMMARY:Night of Champions Annual Dinner
DESCRIPTION:Night of Champions Annual Dinner\n\nBoard Installation and Recognition\n\nCelebrate Business of the Year\, Ambassador of the Year and Public Servant of the Year
X-ALT-DESC;FMTTYPE=text/html:Night of Champions Annual Dinner<br />\nBoard Installation and Recognition<br />\nCelebrate Business of the Year\, Ambassador of the Year and Public Servant of the Year
LOCATION:Sunrise Event Center 620 Orange Drive Vacaville CA
UID:e.1559.2057
SEQUENCE:3
DTSTAMP:20260419T171500Z
URL:https://business.vacavillechamber.com/events/details/night-of-champions-annual-dinner-2057
END:VEVENT

END:VCALENDAR
