BEGIN:VCALENDAR
VERSION:2.0
PRODID:-//ChamberMaster//Event Calendar 2.0//EN
METHOD:PUBLISH
X-PUBLISHED-TTL:P3D
REFRESH-INTERVAL:P3D
CALSCALE:GREGORIAN
BEGIN:VEVENT
DTSTART:20170624T010000Z
DTEND:20170624T040000Z
X-MICROSOFT-CDO-ALLDAYEVENT:FALSE
SUMMARY:Night of Champions Annual Dinner
DESCRIPTION:Annual Installation and Community Awards Dinner Night of Champions! Come celebrate the Champions of and for the Chamber!
X-ALT-DESC;FMTTYPE=text/html:Annual Installation and Community Awards Dinner Night of Champions! Come celebrate the Champions of and for the Chamber!&nbsp\;&nbsp\;
LOCATION:Sunrise Event Center 630 Orange Drive
UID:e.1559.1966
SEQUENCE:3
DTSTAMP:20260420T093521Z
URL:https://business.vacavillechamber.com/events/details/night-of-champions-annual-dinner-1966
END:VEVENT

END:VCALENDAR
