BEGIN:VCALENDAR
VERSION:2.0
PRODID:-//ChamberMaster//Event Calendar 2.0//EN
METHOD:PUBLISH
X-PUBLISHED-TTL:P3D
REFRESH-INTERVAL:P3D
CALSCALE:GREGORIAN
BEGIN:VEVENT
DTSTART:20180727T151500Z
DTEND:20180727T161500Z
X-MICROSOFT-CDO-ALLDAYEVENT:FALSE
SUMMARY:New Member Orientation
DESCRIPTION:Welcome New Members and Members' New Representatives to the Vacaville Business Community. Attendees meet staff\, learn to maximize their directory listing and identify opportunities to get involved.
X-ALT-DESC;FMTTYPE=text/html:<span style="font-family: &quot\;Trebuchet MS&quot\;\, Arial\, Helvetica\, Geneva\, Swiss\, SunSans-Regular\; font-size: 16px\;">Welcome New Members and Members&#39\; New Representatives to the Vacaville Business Community. Attendees meet staff\, learn to maximize their directory listing and identify opportunities to get involved.</span>
LOCATION:Chamber Office 300 Mian Street\, Suite A Vacaville\, CA 95688
UID:e.1559.2768
SEQUENCE:3
DTSTAMP:20260419T154632Z
URL:https://business.vacavillechamber.com/events/details/new-member-orientation-2768
END:VEVENT

END:VCALENDAR
