BEGIN:VCALENDAR
VERSION:2.0
PRODID:-//ChamberMaster//Event Calendar 2.0//EN
METHOD:PUBLISH
X-PUBLISHED-TTL:P3D
REFRESH-INTERVAL:P3D
CALSCALE:GREGORIAN
BEGIN:VEVENT
DTSTART:20251120T000000Z
DTEND:20251120T010000Z
X-MICROSOFT-CDO-ALLDAYEVENT:FALSE
SUMMARY:Member Orientation
DESCRIPTION:We will go over your benefits as a Vacaville Chamber member and the next steps now that you've joined. Existing and potential members are welcome to join us\, too!\n\n\n\nLight refreshments will be served. RSVP is highly encouraged!
X-ALT-DESC;FMTTYPE=text/html:We will go over your benefits as a Vacaville Chamber member and the next steps now that you&#39\;ve joined.&nbsp\;Existing and potential members are welcome to join us\, too!<br />\n<br />\nLight refreshments will be served. RSVP is highly encouraged!
LOCATION:Vacaville Chamber of Commerce Office 411 Davis Street\, Ste. 101 Vacaville\, CA 95688
UID:e.1559.6474
SEQUENCE:3
DTSTAMP:20260419T125226Z
URL:https://business.vacavillechamber.com/events/details/new-member-orientation-11-26-2025-6474
END:VEVENT

END:VCALENDAR
