BEGIN:VCALENDAR
VERSION:2.0
PRODID:-//ChamberMaster//Event Calendar 2.0//EN
METHOD:PUBLISH
X-PUBLISHED-TTL:P3D
REFRESH-INTERVAL:P3D
CALSCALE:GREGORIAN
BEGIN:VEVENT
DTSTART:20170127T161500Z
DTEND:20170127T171500Z
X-MICROSOFT-CDO-ALLDAYEVENT:FALSE
SUMMARY:New Member Orientation
DESCRIPTION:Orientation for New Chamber Members - learn more about benefits\, online directory and organization.
X-ALT-DESC;FMTTYPE=text/html:Orientation for New Chamber Members - learn more about benefits\, online directory and organization.
LOCATION:Vacaville Chamber of Commerce 300 Main Street\, Suite A
UID:e.1559.1841
SEQUENCE:3
DTSTAMP:20260420T160941Z
URL:https://business.vacavillechamber.com/events/details/new-member-orientation-01-27-2017-1841
END:VEVENT

END:VCALENDAR
