BEGIN:VCALENDAR
VERSION:2.0
PRODID:-//ChamberMaster//Event Calendar 2.0//EN
METHOD:PUBLISH
X-PUBLISHED-TTL:P3D
REFRESH-INTERVAL:P3D
CALSCALE:GREGORIAN
BEGIN:VEVENT
DTSTART:20230308T160000Z
DTEND:20230308T180000Z
X-MICROSOFT-CDO-ALLDAYEVENT:FALSE
SUMMARY:Movers & Shakers Breakfast Summit 2023
DESCRIPTION:The Vacaville Chamber's premier advocacy event brings together policymakers and business leaders to discuss the latest issues.\n\n\n\nVisit Event Page\n\n\n\n \n\n\n\n\nSponsorship Opportunities\n\n\n\n\n\n\n\nVIP RECEPTION SPONSOR - $750\n\n\n	Four Tickets to the Event plus VIP Reception with Elected Officials (Invitation Only)\n	Logo in Event Program\n	Recognition During the Breakfast Program and in Event Slideshow\n	Sponsor Placard at Registration Table\n	Social Media & Digital Marketing Recognition\n\n\n\n\n\n\n\n\n\n\n\n\nBREAKFAST SPONSOR - $500\n\n\n	Four Tickets to the Event\n	Logo in Event Program\n	Recognition During the Breakfast Program and in Event Slideshow\n	Social Media & Digital Marketing Recognition\n\n\n\n\n\n\n\n\n\n\n\n\nTABLE SPONSOR - $600\n\n\n	Eight Tickets to the Event with Reserved Table\n	Listing in Event Program\n	Logo Display on Table
X-ALT-DESC;FMTTYPE=text/html:The Vacaville Chamber&#39\;s premier advocacy event brings together policymakers and business leaders to discuss the latest issues.<br />\n<br />\n<span style="font-size:18px\;"><strong><a href="https://www.vacavillechamber.com/movers-shakers-breakfast-summit/">Visit Event Page</a></strong></span><br />\n<br />\n&nbsp\;\n<hr /><br />\n<br />\n<span style="font-size:20px\;">Sponsorship Opportunities</span>\n\n<div background-color:="" data-node="61ef4a5d4a609" dm="" font-size:="">\n<div data-node="61ef4a5d4a6e6">\n<div>\n<div data-name="Text Editor" data-node="61ef4a8253e7f" data-parent="61ef4a5d4a6e6" data-type="rich-text">\n<div>\n<div>\n<p>VIP RECEPTION SPONSOR - $750</p>\n\n<ul>\n	<li>Four Tickets to the Event plus VIP Reception with Elected Officials (Invitation Only)</li>\n	<li>Logo in Event Program</li>\n	<li>Recognition During the Breakfast Program and in Event Slideshow</li>\n	<li>Sponsor Placard at Registration Table</li>\n	<li>Social Media &amp\; Digital Marketing Recognition</li>\n</ul>\n</div>\n</div>\n</div>\n</div>\n</div>\n\n<div data-node="61ef4a5d4a6e9">\n<div>\n<div data-name="Text Editor" data-node="61ef4b8044d48" data-parent="61ef4a5d4a6e9" data-type="rich-text">\n<div>\n<div>\n<p>BREAKFAST SPONSOR - $500</p>\n\n<ul>\n	<li>Four Tickets to the Event</li>\n	<li>Logo in Event Program</li>\n	<li>Recognition During the Breakfast Program and in Event Slideshow</li>\n	<li>Social Media &amp\; Digital Marketing Recognition</li>\n</ul>\n</div>\n</div>\n</div>\n</div>\n</div>\n\n<div data-node="61ef4a5d4a6ea">\n<div>\n<div data-name="Text Editor" data-node="61ef4c516ab5a" data-parent="61ef4a5d4a6ea" data-type="rich-text">\n<div>\n<div>\n<p>TABLE SPONSOR - $600</p>\n\n<ul>\n	<li>Eight Tickets to the Event with Reserved Table</li>\n	<li>Listing in Event Program</li>\n	<li>Logo Display on Table</li>\n</ul>\n</div>\n</div>\n</div>\n</div>\n</div>\n</div>\n
LOCATION:Vacaville Opera House 560 Main Street Vacaville\, CA 95688
UID:e.1559.4794
SEQUENCE:3
DTSTAMP:20260421T111221Z
URL:https://business.vacavillechamber.com/events/details/movers-shakers-breakfast-summit-2023-4794
END:VEVENT

END:VCALENDAR
