BEGIN:VCALENDAR
VERSION:2.0
PRODID:-//ChamberMaster//Event Calendar 2.0//EN
METHOD:PUBLISH
X-PUBLISHED-TTL:P3D
REFRESH-INTERVAL:P3D
CALSCALE:GREGORIAN
BEGIN:VEVENT
DTSTART:20160517T150000Z
DTEND:20160517T160000Z
X-MICROSOFT-CDO-ALLDAYEVENT:FALSE
SUMMARY:Morning Wake-up - Raley's
DESCRIPTION:Wake up with Raley's!  Network with others while learning all that Raley's has to offer you. Not JUST a grocery store! :)
X-ALT-DESC;FMTTYPE=text/html:Wake up with Raley&#39\;s! &nbsp\;Network with others while learning all that Raley&#39\;s has to offer you. Not JUST a grocery store! :)
LOCATION:Raley's 3061 Alamo Drive Vacaville\, CA 95687
UID:e.1559.1875
SEQUENCE:3
DTSTAMP:20260421T020928Z
URL:https://business.vacavillechamber.com/events/details/morning-wake-up-raley-s-05-17-2016-1875
END:VEVENT

END:VCALENDAR
