BEGIN:VCALENDAR
VERSION:2.0
PRODID:-//ChamberMaster//Event Calendar 2.0//EN
METHOD:PUBLISH
X-PUBLISHED-TTL:P3D
REFRESH-INTERVAL:P3D
CALSCALE:GREGORIAN
BEGIN:VEVENT
DTSTART:20171017T150000Z
DTEND:20171017T160000Z
X-MICROSOFT-CDO-ALLDAYEVENT:FALSE
SUMMARY:Morning Wake-Up-Hosted by Golden 1 Credit Union
DESCRIPTION:Join us and our host\, Golden 1 Credit Union for our monthly Wake Up! Start your day with coffee\, pastries and networking before heading into work! Don't forget your business cards!
X-ALT-DESC;FMTTYPE=text/html:Join us and our host\, Golden&nbsp\;1 Credit Union for our monthly Wake Up! Start your day with coffee\, pastries and networking before heading into work! Don&#39\;t forget your business cards!
LOCATION:Golden 1 Credit Union 196 Nut Tree Pkwy\, Vacaville
UID:e.1559.2021
SEQUENCE:3
DTSTAMP:20260420T055305Z
URL:https://business.vacavillechamber.com/events/details/morning-wake-up-hosted-by-golden-1-credit-union-2021
END:VEVENT

END:VCALENDAR
