BEGIN:VCALENDAR
VERSION:2.0
PRODID:-//ChamberMaster//Event Calendar 2.0//EN
METHOD:PUBLISH
X-PUBLISHED-TTL:P3D
REFRESH-INTERVAL:P3D
CALSCALE:GREGORIAN
BEGIN:VEVENT
DTSTART:20170418T150000Z
DTEND:20170418T160000Z
X-MICROSOFT-CDO-ALLDAYEVENT:FALSE
SUMMARY:Morning Wake-Up
DESCRIPTION:Hosted by The Reporter\, Join us for a morning Wake Up networking event while enjoying some coffee and goodies!
X-ALT-DESC;FMTTYPE=text/html:Hosted by The Reporter\, Join us for a morning Wake Up networking event while enjoying some coffee and goodies!
LOCATION:401 Davis Street Vacaville
UID:e.1559.1946
SEQUENCE:3
DTSTAMP:20260420T121441Z
URL:https://business.vacavillechamber.com/events/details/morning-wake-up-1946
END:VEVENT

END:VCALENDAR
