BEGIN:VCALENDAR
VERSION:2.0
PRODID:-//ChamberMaster//Event Calendar 2.0//EN
METHOD:PUBLISH
X-PUBLISHED-TTL:P3D
REFRESH-INTERVAL:P3D
CALSCALE:GREGORIAN
BEGIN:VEVENT
DTSTART:20170321T150000Z
DTEND:20170321T160000Z
X-MICROSOFT-CDO-ALLDAYEVENT:FALSE
SUMMARY:Morning Wake Up
DESCRIPTION:Wake Up Vacaville! Join us on this morning and our host Allstate Insurance Company-KR Insurance and Financial Services for networking fun and goodies!
X-ALT-DESC;FMTTYPE=text/html:Wake Up Vacaville! Join us on this morning and our host Allstate Insurance Company-KR Insurance and Financial Services for networking fun and goodies!
LOCATION:350 Merchant Street\, Vacaville
UID:e.1559.1944
SEQUENCE:3
DTSTAMP:20260420T132725Z
URL:https://business.vacavillechamber.com/events/details/morning-wake-up-1944
END:VEVENT

END:VCALENDAR
