BEGIN:VCALENDAR
VERSION:2.0
PRODID:-//ChamberMaster//Event Calendar 2.0//EN
METHOD:PUBLISH
X-PUBLISHED-TTL:P3D
REFRESH-INTERVAL:P3D
CALSCALE:GREGORIAN
BEGIN:VEVENT
DTSTART:20170221T160000Z
DTEND:20170221T170000Z
X-MICROSOFT-CDO-ALLDAYEVENT:FALSE
SUMMARY:Morning Wake Up
DESCRIPTION:Wake Up Vacaville! Join us and our host\, Kaia Fit Vacaville for great networking\, coffee and goodies!
X-ALT-DESC;FMTTYPE=text/html:Wake Up Vacaville! Join us and our host\, Kaia Fit Vacaville&nbsp\;for great networking\, coffee and goodies! &nbsp\;
LOCATION:37777 Vaca Valley Parkway\, Suite C Vacaville
UID:e.1559.1942
SEQUENCE:3
DTSTAMP:20260420T145115Z
URL:https://business.vacavillechamber.com/events/details/morning-wake-up-1942
END:VEVENT

END:VCALENDAR
