BEGIN:VCALENDAR
VERSION:2.0
PRODID:-//ChamberMaster//Event Calendar 2.0//EN
METHOD:PUBLISH
X-PUBLISHED-TTL:P3D
REFRESH-INTERVAL:P3D
CALSCALE:GREGORIAN
BEGIN:VEVENT
DTSTART:20170117T160000Z
DTEND:20170117T170000Z
X-MICROSOFT-CDO-ALLDAYEVENT:FALSE
SUMMARY:Morning Wake Up
DESCRIPTION:Wake Up Vacaville! Join us for some great networking and coffee & pastries hosted by Better Bookkeepers
X-ALT-DESC;FMTTYPE=text/html:Wake Up Vacaville! Join us for some great networking and coffee &amp\; pastries hosted by Better Bookkeepers&nbsp\;
LOCATION:330 Merchant Street Vacaville\, CA
UID:e.1559.1941
SEQUENCE:3
DTSTAMP:20260420T161327Z
URL:https://business.vacavillechamber.com/events/details/morning-wake-up-1941
END:VEVENT

END:VCALENDAR
