BEGIN:VCALENDAR
VERSION:2.0
PRODID:-//ChamberMaster//Event Calendar 2.0//EN
METHOD:PUBLISH
X-PUBLISHED-TTL:P3D
REFRESH-INTERVAL:P3D
CALSCALE:GREGORIAN
BEGIN:VEVENT
DTSTART:20161018T150000Z
DTEND:20161018T160000Z
X-MICROSOFT-CDO-ALLDAYEVENT:FALSE
SUMMARY:Morning Wake-Up
DESCRIPTION:Wake Up Vacaville! Join us for a morning coffee and pastries hosted by Buick GMC of Vacaville
X-ALT-DESC;FMTTYPE=text/html:<span style="line-height: 20.8px\;">Wake Up Vacaville! Join us for a morning coffee and pastries hosted by Buick&nbsp\;GMC of Vacaville</span><span style="line-height: 20.8px\;">&nbsp\;</span>
LOCATION:350 Orange Drive Vacaville CA
UID:e.1559.1894
SEQUENCE:3
DTSTAMP:20260420T194825Z
URL:https://business.vacavillechamber.com/events/details/morning-wake-up-10-18-2016-1894
END:VEVENT

END:VCALENDAR
