BEGIN:VCALENDAR
VERSION:2.0
PRODID:-//ChamberMaster//Event Calendar 2.0//EN
METHOD:PUBLISH
X-PUBLISHED-TTL:P3D
REFRESH-INTERVAL:P3D
CALSCALE:GREGORIAN
BEGIN:VEVENT
DTSTART:20160920T150000Z
DTEND:20160920T160000Z
X-MICROSOFT-CDO-ALLDAYEVENT:FALSE
SUMMARY:Morning Wake-Up @ All Size Flooring Center
DESCRIPTION:Wake Up Vacaville! Join us for morning coffee\, pastries and networking\n\nhosted by All Size Flooring Center
X-ALT-DESC;FMTTYPE=text/html:<span style="line-height: 20.8px\;">Wake Up Vacaville! Join us for morning coffee\, pastries and networking<br />\nhosted by All Size Flooring Center</span>
LOCATION:1021 Mason Street\, Ste 2 Vacaville CA
UID:e.1559.1893
SEQUENCE:3
DTSTAMP:20260420T210613Z
URL:https://business.vacavillechamber.com/events/details/morning-wake-up-09-20-2016-1893
END:VEVENT

END:VCALENDAR
