BEGIN:VCALENDAR
VERSION:2.0
PRODID:-//ChamberMaster//Event Calendar 2.0//EN
METHOD:PUBLISH
X-PUBLISHED-TTL:P3D
REFRESH-INTERVAL:P3D
CALSCALE:GREGORIAN
BEGIN:VEVENT
DTSTART:20160205T013000Z
DTEND:20160205T030000Z
X-MICROSOFT-CDO-ALLDAYEVENT:FALSE
SUMMARY:Monthly Mixer Hosted by Rotary Clubs
DESCRIPTION:Vacaville Chamber's Monthly Mixer\n\nHosted by Rotary Clubs
X-ALT-DESC;FMTTYPE=text/html:Vacaville Chamber&#39\;s Monthly Mixer<br />\nHosted by Rotary Clubs
LOCATION:Hampton Inn & Suites 800 Mason Street
UID:e.1559.1806
SEQUENCE:3
DTSTAMP:20260421T055638Z
URL:https://business.vacavillechamber.com/events/details/monthly-mixer-hosted-by-rotary-clubs-02-04-2016-1806
END:VEVENT

END:VCALENDAR
