BEGIN:VCALENDAR
VERSION:2.0
PRODID:-//ChamberMaster//Event Calendar 2.0//EN
METHOD:PUBLISH
X-PUBLISHED-TTL:P3D
REFRESH-INTERVAL:P3D
CALSCALE:GREGORIAN
BEGIN:VEVENT
DTSTART:20160805T003000Z
DTEND:20160805T020000Z
X-MICROSOFT-CDO-ALLDAYEVENT:FALSE
SUMMARY:Monthly Mixer Hosted by Brookdale Vacaville
DESCRIPTION:Monthly Mixer Hosted by Brookdale Vacaville    \n\nAugust 4th is National Chocolate Chip Cookie Day!\n\nCelebrate by bringing your best baked chocolate chip cookies to sample and be entered into a special drawing!  Extra cookies will be donated to The Boys and Girls club.
X-ALT-DESC;FMTTYPE=text/html:<span style="font-size:16px\;"><strong>Monthly Mixer Hosted by Brookdale&nbsp\;Vacaville&nbsp\;&nbsp\;&nbsp\;&nbsp\;</strong></span><br />\n<span style="font-size:14px\;"><span style="font-family:comic sans ms\;"><span style="color:#0000FF\;"><strong>August 4th is National Chocolate Chip Cookie Day!<br />\nCelebrate by bringing your best baked chocolate chip cookies to sample and be entered into a special drawing! &nbsp\;Extra cookies will be donated to The Boys and Girls club.</strong></span></span></span>
LOCATION:1111 Ulatis Dr\, Vacaville\, CA 95687
UID:e.1559.1869
SEQUENCE:3
DTSTAMP:20260420T222614Z
URL:https://business.vacavillechamber.com/events/details/monthly-mixer-hosted-by-brookdale-vacaville-08-04-2016-1869
END:VEVENT

END:VCALENDAR
