BEGIN:VCALENDAR
VERSION:2.0
PRODID:-//ChamberMaster//Event Calendar 2.0//EN
METHOD:PUBLISH
X-PUBLISHED-TTL:P3D
REFRESH-INTERVAL:P3D
CALSCALE:GREGORIAN
BEGIN:VEVENT
DTSTART:20160224T013000Z
DTEND:20160224T023000Z
X-MICROSOFT-CDO-ALLDAYEVENT:FALSE
SUMMARY:Mobile Marketing Strategies-Free
DESCRIPTION:Evaluate whether developing a mobile app for your small business will improve customer retention and revenue growth.
X-ALT-DESC;FMTTYPE=text/html:Evaluate whether developing a mobile app for your small business will improve<span style="color: rgb(34\, 34\, 34)\; font-family: Tahoma\; font-size: small\; line-height: normal\;">&nbsp\;customer retention and revenue growth.</span>
LOCATION:Vacaville Chamber Conference Room
UID:e.1559.1804
SEQUENCE:3
DTSTAMP:20260421T055001Z
URL:https://business.vacavillechamber.com/events/details/mobile-marketing-strategies-free-02-23-2016-1804
END:VEVENT

END:VCALENDAR
