BEGIN:VCALENDAR
VERSION:2.0
PRODID:-//ChamberMaster//Event Calendar 2.0//EN
METHOD:PUBLISH
X-PUBLISHED-TTL:P3D
REFRESH-INTERVAL:P3D
CALSCALE:GREGORIAN
BEGIN:VEVENT
DTSTART:20141107T013000Z
DTEND:20141107T030000Z
X-MICROSOFT-CDO-ALLDAYEVENT:FALSE
SUMMARY:Mixer hosted by the Opera House
DESCRIPTION:Join us for our November mixer hosted by the Opera House. Come network with Chamber members and strengthen existing business ties.
X-ALT-DESC;FMTTYPE=text/html:Join us for our November mixer hosted by the Opera House. Come network with Chamber members and strengthen existing business ties.
LOCATION:560 Main Street\, Suite C (upstairs)
UID:e.1559.553
SEQUENCE:3
DTSTAMP:20260422T014417Z
URL:https://business.vacavillechamber.com/events/details/mixer-hosted-by-the-opera-house-11-06-2014-553
END:VEVENT

END:VCALENDAR
