BEGIN:VCALENDAR
VERSION:2.0
PRODID:-//ChamberMaster//Event Calendar 2.0//EN
METHOD:PUBLISH
X-PUBLISHED-TTL:P3D
REFRESH-INTERVAL:P3D
CALSCALE:GREGORIAN
BEGIN:VEVENT
DTSTART:20150306T013000Z
DTEND:20150306T030000Z
X-MICROSOFT-CDO-ALLDAYEVENT:FALSE
SUMMARY:Mixer hosted by InShape
DESCRIPTION:Join us for our mixer hosted by InShape. Come and experience great networking\, yummy food & beverages.
X-ALT-DESC;FMTTYPE=text/html:Join us for our mixer hosted by InShape. Come and experience great networking\, yummy food &amp\; beverages.
LOCATION:3446 Browns Valley Road\, Vacaville\, CA 95688
UID:e.1559.1591
SEQUENCE:3
DTSTAMP:20260421T201322Z
URL:https://business.vacavillechamber.com/events/details/mixer-hosted-by-inshape-03-05-2015-1591
END:VEVENT

END:VCALENDAR
