BEGIN:VCALENDAR
VERSION:2.0
PRODID:-//ChamberMaster//Event Calendar 2.0//EN
METHOD:PUBLISH
X-PUBLISHED-TTL:P3D
REFRESH-INTERVAL:P3D
CALSCALE:GREGORIAN
BEGIN:VEVENT
DTSTART:20180826T170000Z
DTEND:20180826T200000Z
X-MICROSOFT-CDO-ALLDAYEVENT:FALSE
SUMMARY:Merriment on Main Brunch
DESCRIPTION:Merriment on Main\n\nBrunch Fundraiser
X-ALT-DESC;FMTTYPE=text/html:Merriment on Main<br />\nBrunch Fundraiser
LOCATION:Vacaville Opera House 560 Main Street
UID:e.1559.2490
SEQUENCE:3
DTSTAMP:20260419T142359Z
URL:https://business.vacavillechamber.com/events/details/merriment-on-main-brunch-2490
END:VEVENT

END:VCALENDAR
