BEGIN:VCALENDAR
VERSION:2.0
PRODID:-//ChamberMaster//Event Calendar 2.0//EN
METHOD:PUBLISH
X-PUBLISHED-TTL:P3D
REFRESH-INTERVAL:P3D
CALSCALE:GREGORIAN
BEGIN:VEVENT
DTSTART:20161130T010000Z
DTEND:20161130T050000Z
X-MICROSOFT-CDO-ALLDAYEVENT:FALSE
SUMMARY:Merriment on Main
DESCRIPTION:Come down to Downtown Vacaville and take part in a wonderful holiday tradition of festivities and lighting of the Christmas tree.
X-ALT-DESC;FMTTYPE=text/html:Come down to Downtown Vacaville and take part in a wonderful holiday tradition of festivities and lighting of the Christmas tree.&nbsp\;
LOCATION:Downtown Vacaville
UID:e.1559.1929
SEQUENCE:3
DTSTAMP:20260420T183740Z
URL:https://business.vacavillechamber.com/events/details/merriment-on-main-1929
END:VEVENT

END:VCALENDAR
