BEGIN:VCALENDAR
VERSION:2.0
PRODID:-//ChamberMaster//Event Calendar 2.0//EN
METHOD:PUBLISH
X-PUBLISHED-TTL:P3D
REFRESH-INTERVAL:P3D
CALSCALE:GREGORIAN
BEGIN:VEVENT
DTSTART:20151202T010000Z
DTEND:20151202T040000Z
X-MICROSOFT-CDO-ALLDAYEVENT:FALSE
SUMMARY:Merriment on Main
DESCRIPTION:Community kick-off for Christmas
X-ALT-DESC;FMTTYPE=text/html:Community kick-off for Christmas
LOCATION:Main Street
UID:e.1559.1788
SEQUENCE:3
DTSTAMP:20260421T082820Z
URL:https://business.vacavillechamber.com/events/details/merriment-on-main-12-01-2015-1788
END:VEVENT

END:VCALENDAR
