BEGIN:VCALENDAR
VERSION:2.0
PRODID:-//ChamberMaster//Event Calendar 2.0//EN
METHOD:PUBLISH
X-PUBLISHED-TTL:P3D
REFRESH-INTERVAL:P3D
CALSCALE:GREGORIAN
BEGIN:VEVENT
DTSTART:20260101T163000Z
DTEND:20260101T173000Z
X-MICROSOFT-CDO-ALLDAYEVENT:FALSE
SUMMARY:Membership Committee Meeting
DESCRIPTION:Membership in the Chamber is the backbone for its activities. Get up to date on the latest member happenings and help the Chamber grow its membership!
X-ALT-DESC;FMTTYPE=text/html:Membership in the Chamber is the backbone for its activities. Get up to date on the latest member happenings and help the Chamber grow its membership!
LOCATION:
UID:e.1559.3635
SEQUENCE:3
DTSTAMP:20260420T001342Z
URL:https://business.vacavillechamber.com/events/details/membership-committee-meeting-01-01-2026-3635
END:VEVENT

END:VCALENDAR
