BEGIN:VCALENDAR
VERSION:2.0
PRODID:-//ChamberMaster//Event Calendar 2.0//EN
METHOD:PUBLISH
X-PUBLISHED-TTL:P3D
REFRESH-INTERVAL:P3D
CALSCALE:GREGORIAN
BEGIN:VEVENT
DTSTART:20171215T161500Z
DTEND:20171215T171500Z
X-MICROSOFT-CDO-ALLDAYEVENT:FALSE
SUMMARY:Member Orientation-Cancelled
DESCRIPTION:Orientation for Chamber Members - learn more about benefits\, online directory and organization.
X-ALT-DESC;FMTTYPE=text/html:Orientation for Chamber Members - learn more about benefits\, online directory and organization.
LOCATION:Vacaville Chamber of Commerce 300 Main Street\, Suite A
UID:e.1559.2011
SEQUENCE:3
DTSTAMP:20260420T013738Z
URL:https://business.vacavillechamber.com/events/details/member-orientation-cancelled-2011
END:VEVENT

END:VCALENDAR
