BEGIN:VCALENDAR
VERSION:2.0
PRODID:-//ChamberMaster//Event Calendar 2.0//EN
METHOD:PUBLISH
X-PUBLISHED-TTL:P3D
REFRESH-INTERVAL:P3D
CALSCALE:GREGORIAN
BEGIN:VEVENT
DTSTART:20180223T161500Z
DTEND:20180223T171500Z
X-MICROSOFT-CDO-ALLDAYEVENT:FALSE
SUMMARY:Member Orientation
DESCRIPTION:Welcome New Members and Members' New Representatives to the Vacaville Business Community. Attendees meet staff\, learn to maximize their directory listing and identify opportunities to get involved.
X-ALT-DESC;FMTTYPE=text/html:Welcome New Members and Members&#39\; New Representatives to the Vacaville Business Community. Attendees meet staff\, learn to maximize their directory listing and identify opportunities to get involved.
LOCATION:Chamber Office 300 Main Street\, Ste A
UID:e.1559.2050
SEQUENCE:3
DTSTAMP:20260419T225707Z
URL:https://business.vacavillechamber.com/events/details/member-orientation-2050
END:VEVENT

END:VCALENDAR
