BEGIN:VCALENDAR
VERSION:2.0
PRODID:-//ChamberMaster//Event Calendar 2.0//EN
METHOD:PUBLISH
X-PUBLISHED-TTL:P3D
REFRESH-INTERVAL:P3D
CALSCALE:GREGORIAN
BEGIN:VEVENT
DTSTART:20290702T190000Z
DTEND:20290702T200000Z
X-MICROSOFT-CDO-ALLDAYEVENT:FALSE
SUMMARY:Lunch Mob
DESCRIPTION:Join us for our next Chamber Lunch Mob\, a casual networking lunch that supports local restaurants while connecting our members. Meet other business professionals\, make new contacts\, and enjoy great food.\n\nRSVP is highly encouraged so we can reserve enough space. \n\nLet's grab lunch and grow our local business community together.
X-ALT-DESC;FMTTYPE=text/html:<p data-end="256" data-start="25">Join us for our next Chamber Lunch Mob\, a casual networking lunch that supports local restaurants while connecting our members. Meet other business professionals\, make new contacts\, and enjoy great food.</p>\n\n<p data-end="377" data-start="258">RSVP is highly encouraged so we can reserve enough space.&nbsp\;</p>\n\n<p data-end="443" data-is-last-node="" data-is-only-node="" data-start="379">Let&rsquo\;s grab lunch and grow our local business community together.</p>\n
LOCATION:Location varies each month.
UID:e.1559.6719
SEQUENCE:3
DTSTAMP:20260421T115949Z
URL:https://business.vacavillechamber.com/events/details/lunch-mob-07-02-2029-6719
END:VEVENT

END:VCALENDAR
