BEGIN:VCALENDAR
VERSION:2.0
PRODID:-//ChamberMaster//Event Calendar 2.0//EN
METHOD:PUBLISH
X-PUBLISHED-TTL:P3D
REFRESH-INTERVAL:P3D
CALSCALE:GREGORIAN
BEGIN:VEVENT
DTSTART:20180523T190000Z
DTEND:20180523T203000Z
X-MICROSOFT-CDO-ALLDAYEVENT:FALSE
SUMMARY:Leadership Today Program Graduation
DESCRIPTION:Leadership Today 2018 Graduation
X-ALT-DESC;FMTTYPE=text/html:Leadership Today 2018 Graduation
LOCATION:Vacaville Opera House 560 Main Street
UID:e.1559.2088
SEQUENCE:3
DTSTAMP:20260419T184040Z
URL:https://business.vacavillechamber.com/events/details/leadership-today-program-graduation-2088
END:VEVENT

END:VCALENDAR
