BEGIN:VCALENDAR
VERSION:2.0
PRODID:-//ChamberMaster//Event Calendar 2.0//EN
METHOD:PUBLISH
X-PUBLISHED-TTL:P3D
REFRESH-INTERVAL:P3D
CALSCALE:GREGORIAN
BEGIN:VEVENT
DTSTART:20170531T190000Z
DTEND:20170531T210000Z
X-MICROSOFT-CDO-ALLDAYEVENT:FALSE
SUMMARY:Leadership Today Program Graduation
DESCRIPTION:Celebrate a great year of learning and connecting with this year's class of leaders.
X-ALT-DESC;FMTTYPE=text/html:Celebrate a great year of learning and connecting with this year&#39\;s class of leaders.
LOCATION:The Vacaville Opera House 560 Main Street
UID:e.1559.1965
SEQUENCE:3
DTSTAMP:20260420T105155Z
URL:https://business.vacavillechamber.com/events/details/leadership-today-program-graduation-1965
END:VEVENT

END:VCALENDAR
