BEGIN:VCALENDAR
VERSION:2.0
PRODID:-//ChamberMaster//Event Calendar 2.0//EN
METHOD:PUBLISH
X-PUBLISHED-TTL:P3D
REFRESH-INTERVAL:P3D
CALSCALE:GREGORIAN
BEGIN:VEVENT
DTSTART:20160508T000000Z
DTEND:20160508T030000Z
X-MICROSOFT-CDO-ALLDAYEVENT:FALSE
SUMMARY:Leadership Today - Denim & Diamonds
DESCRIPTION:Leadership Today Fundraiser - Denim & Diamonds\n\n\n\nRaising monies for Pink Lemonade and Fun on the Run local organizations
X-ALT-DESC;FMTTYPE=text/html:Leadership Today Fundraiser - Denim &amp\; Diamonds<br />\n<br />\nRaising monies for Pink Lemonade and Fun on the Run local organizations
LOCATION:Sunrise Banquet Hall & Event Center
UID:e.1559.1831
SEQUENCE:3
DTSTAMP:20260421T020817Z
URL:https://business.vacavillechamber.com/events/details/leadership-today-denim-diamonds-05-07-2016-1831
END:VEVENT

END:VCALENDAR
