BEGIN:VCALENDAR
VERSION:2.0
PRODID:-//ChamberMaster//Event Calendar 2.0//EN
METHOD:PUBLISH
X-PUBLISHED-TTL:P3D
REFRESH-INTERVAL:P3D
CALSCALE:GREGORIAN
BEGIN:VEVENT
DTSTART:20161028T000000Z
DTEND:20161028T040000Z
X-MICROSOFT-CDO-ALLDAYEVENT:FALSE
SUMMARY:Ladies Night- Witches Brew Theme
DESCRIPTION:Ladies Night! Come see us at the Chamber for some Witches Brew and more! Better Bookkeepers\, Bottoms Up Tanning Salon\, & ART Computer Maintenance and Repair will be joining us in our spooky courtyard.
X-ALT-DESC;FMTTYPE=text/html:Ladies Night! Come see us at the Chamber for some Witches Brew and more! Better Bookkeepers\, Bottoms Up Tanning Salon\, &amp\; ART Computer Maintenance and Repair will be joining us in our spooky courtyard.&nbsp\;
LOCATION:Downtown Vacaville
UID:e.1559.1915
SEQUENCE:3
DTSTAMP:20260420T194857Z
URL:https://business.vacavillechamber.com/events/details/ladies-night-witches-brew-theme-1915
END:VEVENT

END:VCALENDAR
