BEGIN:VCALENDAR
VERSION:2.0
PRODID:-//ChamberMaster//Event Calendar 2.0//EN
METHOD:PUBLISH
X-PUBLISHED-TTL:P3D
REFRESH-INTERVAL:P3D
CALSCALE:GREGORIAN
BEGIN:VEVENT
DTSTART:20161008T170000Z
DTEND:20161008T220000Z
X-MICROSOFT-CDO-ALLDAYEVENT:FALSE
SUMMARY:Kids Fest
DESCRIPTION:Bring your kids to this fun free event. The kids wil enjoy activities\, crafts\, goodies\, and more! Make sure you visit the Chamber booth at this years KidsFest! We will have goodies for the kiddos and will be there to answer any questions you may have regarding the Chamber.
X-ALT-DESC;FMTTYPE=text/html:Bring your kids to this fun free event. The kids wil enjoy activities\, crafts\, goodies\, and more!&nbsp\;Make sure you&nbsp\;visit the Chamber booth at this years KidsFest! We will have goodies for the kiddos and will be there to answer any questions you may have regarding the Chamber.
LOCATION:Andrews Park East Monte Vista Ave & School St\, Vacaville
UID:e.1559.1912
SEQUENCE:3
DTSTAMP:20260420T194706Z
URL:https://business.vacavillechamber.com/events/details/kids-fest-1912
END:VEVENT

END:VCALENDAR
