BEGIN:VCALENDAR
VERSION:2.0
PRODID:-//ChamberMaster//Event Calendar 2.0//EN
METHOD:PUBLISH
X-PUBLISHED-TTL:P3D
REFRESH-INTERVAL:P3D
CALSCALE:GREGORIAN
BEGIN:VEVENT
DTSTART:20150410T003000Z
DTEND:20150410T020000Z
X-MICROSOFT-CDO-ALLDAYEVENT:FALSE
SUMMARY:Joint Mixer with FFS-Chamber of Commerce hosted by Ford Lincoln Fairfield
DESCRIPTION:Join us for our joint mixer with the Fairfield-Suisun Chamber of Commerce hosted by Ford Lincoln Fairfield.
X-ALT-DESC;FMTTYPE=text/html:Join us for our joint mixer with the Fairfield-Suisun Chamber of Commerce hosted by Ford Lincoln Fairfield.
LOCATION:3050 Auto Mall Court\, Fairfield\, CA 94534
UID:e.1559.1601
SEQUENCE:3
DTSTAMP:20260421T185701Z
URL:https://business.vacavillechamber.com/events/details/joint-mixer-with-ffs-chamber-of-commerce-hosted-by-ford-lincoln-fairfield-04-09-2015-1601
END:VEVENT

END:VCALENDAR
