BEGIN:VCALENDAR
VERSION:2.0
PRODID:-//ChamberMaster//Event Calendar 2.0//EN
METHOD:PUBLISH
X-PUBLISHED-TTL:P3D
REFRESH-INTERVAL:P3D
CALSCALE:GREGORIAN
BEGIN:VEVENT
DTSTART:20150109T013000Z
DTEND:20150109T030000Z
X-MICROSOFT-CDO-ALLDAYEVENT:FALSE
SUMMARY:Joint Mixer with Fairfield-Suisun Chamber of Commerce hosted by Cornerstone Assisted Living
DESCRIPTION:Vacaville Chamber & FFS-Chamber of Commerce joint mixer hosted by Cornerstone Assisted Living.
X-ALT-DESC;FMTTYPE=text/html:Vacaville Chamber &amp\; FFS-Chamber of Commerce joint mixer hosted by Cornerstone Assisted Living.
LOCATION:40 Orange Tree Circle\, Vacaville\, CA 95687
UID:e.1559.1586
SEQUENCE:3
DTSTAMP:20260421T225108Z
URL:https://business.vacavillechamber.com/events/details/joint-mixer-with-fairfield-suisun-chamber-of-commerce-hosted-by-cornerstone-assisted-living-01-08-2015-1586
END:VEVENT

END:VCALENDAR
