BEGIN:VCALENDAR
VERSION:2.0
PRODID:-//ChamberMaster//Event Calendar 2.0//EN
METHOD:PUBLISH
X-PUBLISHED-TTL:P3D
REFRESH-INTERVAL:P3D
CALSCALE:GREGORIAN
BEGIN:VEVENT
DTSTART:20151002T003000Z
DTEND:20151002T020000Z
X-MICROSOFT-CDO-ALLDAYEVENT:FALSE
SUMMARY:Joint Mixer with Fairfield-Suisun Chamber of Commerce
DESCRIPTION:Joint Mixer hosted by Recology Vacaville Solano
X-ALT-DESC;FMTTYPE=text/html:Joint Mixer hosted by Recology Vacaville Solano
LOCATION:Vacaville Chamber of Commerce Patio 300 Main Street
UID:e.1559.1773
SEQUENCE:3
DTSTAMP:20260421T105555Z
URL:https://business.vacavillechamber.com/events/details/joint-mixer-with-fairfield-suisun-chamber-of-commerce-10-01-2015-1773
END:VEVENT

END:VCALENDAR
