BEGIN:VCALENDAR
VERSION:2.0
PRODID:-//ChamberMaster//Event Calendar 2.0//EN
METHOD:PUBLISH
X-PUBLISHED-TTL:P3D
REFRESH-INTERVAL:P3D
CALSCALE:GREGORIAN
BEGIN:VEVENT
DTSTART:20150710T003000Z
DTEND:20150710T020000Z
X-MICROSOFT-CDO-ALLDAYEVENT:FALSE
SUMMARY:Joint Mixer with Fairfield-Suisun Chamber hosted by NorthBay Healthcare
DESCRIPTION:Join us at our July joint mixer with the Fairfield-Suisun Chamber of Commerce hosted by NorthBay Healthcare!
X-ALT-DESC;FMTTYPE=text/html:Join us at our July&nbsp\;joint mixer with the Fairfield-Suisun Chamber of Commerce hosted by NorthBay Healthcare!
LOCATION:NorthBay Healthcare - 4500 Business Center Drive - Fairfield
UID:e.1559.1749
SEQUENCE:3
DTSTAMP:20260421T145004Z
URL:https://business.vacavillechamber.com/events/details/joint-mixer-with-fairfield-suisun-chamber-hosted-by-northbay-healthcare-07-09-2015-1749
END:VEVENT

END:VCALENDAR
