BEGIN:VCALENDAR
VERSION:2.0
PRODID:-//ChamberMaster//Event Calendar 2.0//EN
METHOD:PUBLISH
X-PUBLISHED-TTL:P3D
REFRESH-INTERVAL:P3D
CALSCALE:GREGORIAN
BEGIN:VEVENT
DTSTART:20180112T013000Z
DTEND:20180112T030000Z
X-MICROSOFT-CDO-ALLDAYEVENT:FALSE
SUMMARY:Joint Mixer hosted by First Northern Bank
DESCRIPTION:Joint Mixer with Dixon\, Fairfield-Suisun and Winters Chambers of Commerce\n\n\n\nHosted by First Northern Bank
X-ALT-DESC;FMTTYPE=text/html:Joint Mixer with Dixon\, Fairfield-Suisun and Winters Chambers of Commerce<br />\n<br />\nHosted by First Northern Bank
LOCATION:Solano Community College - Vacaville Center 2001 N Village Pkwy
UID:e.1559.2032
SEQUENCE:3
DTSTAMP:20260420T001317Z
URL:https://business.vacavillechamber.com/events/details/joint-mixer-hosted-by-first-northern-bank-2032
END:VEVENT

END:VCALENDAR
