BEGIN:VCALENDAR
VERSION:2.0
PRODID:-//ChamberMaster//Event Calendar 2.0//EN
METHOD:PUBLISH
X-PUBLISHED-TTL:P3D
REFRESH-INTERVAL:P3D
CALSCALE:GREGORIAN
BEGIN:VEVENT
DTSTART:20160715T180000Z
DTEND:20160715T200000Z
X-MICROSOFT-CDO-ALLDAYEVENT:FALSE
SUMMARY:Joint Chamber Power Lunch
DESCRIPTION:Join us\, and The Fairfield-Suisun Chamber for a Joint Chamber Power Lunch with guest speaker Matt Beaudreau. Matt will entreatingly reveal each generation's workplace mindset and strengths. Attendees will leave motivated to act with ready-to-use tools thy can apply immediately!
X-ALT-DESC;FMTTYPE=text/html:Join us\, and The Fairfield-Suisun Chamber for a Joint Chamber Power Lunch with guest speaker Matt Beaudreau. Matt will entreatingly&nbsp\;reveal each generation&#39\;s workplace mindset and strengths. Attendees will leave motivated to act with ready-to-use tools thy can apply immediately!
LOCATION:The Kroc Center 586 Wigeon Way\, Fairfield
UID:e.1559.1878
SEQUENCE:3
DTSTAMP:20260420T233724Z
URL:https://business.vacavillechamber.com/events/details/joint-chamber-power-lunch-07-15-2016-1878
END:VEVENT

END:VCALENDAR
