BEGIN:VCALENDAR
VERSION:2.0
PRODID:-//ChamberMaster//Event Calendar 2.0//EN
METHOD:PUBLISH
X-PUBLISHED-TTL:P3D
REFRESH-INTERVAL:P3D
CALSCALE:GREGORIAN
BEGIN:VEVENT
DTSTART:20160108T200000Z
DTEND:20160108T213000Z
X-MICROSOFT-CDO-ALLDAYEVENT:FALSE
SUMMARY:Joint Chamber Power Lunch
DESCRIPTION:Joint Networking Lunch for Vacaville and Fairfield-Suisun City businesses\n\n\n\nDiscuss current business topics with fellow business people and listen to the invited speaker.
X-ALT-DESC;FMTTYPE=text/html:Joint Networking Lunch for Vacaville and Fairfield-Suisun City businesses<br />\n<br />\nDiscuss current business topics with fellow business people and listen to the invited speaker.
LOCATION:Sunrise Event Center\, 620 Orange Drive\, Vacaville
UID:e.1559.1795
SEQUENCE:3
DTSTAMP:20260421T070859Z
URL:https://business.vacavillechamber.com/events/details/joint-chamber-power-lunch-01-08-2016-1795
END:VEVENT

END:VCALENDAR
