BEGIN:VCALENDAR
VERSION:2.0
PRODID:-//ChamberMaster//Event Calendar 2.0//EN
METHOD:PUBLISH
X-PUBLISHED-TTL:P3D
REFRESH-INTERVAL:P3D
CALSCALE:GREGORIAN
BEGIN:VEVENT
DTSTART:20180406T003000Z
DTEND:20180406T020000Z
X-MICROSOFT-CDO-ALLDAYEVENT:FALSE
SUMMARY:Joint Chamber Mixer with Solano Hispanic Chamber
DESCRIPTION:Join us for a Joint Chamber Mixer with the Solano Hispanic Chamber  hosted by Construction Concierge! Enjoy great networking\, appetizers\, drinks and raffles.\n\n\n\nDon't forget your business cards!
X-ALT-DESC;FMTTYPE=text/html:Join us for a Joint Chamber Mixer with the Solano Hispanic Chamber&nbsp\; hosted by Construction Concierge! Enjoy great networking\, appetizers\, drinks and raffles.<br />\n<br />\nDon&#39\;t forget your business cards!&nbsp\;
LOCATION:Hampton Inn & Suites 800 Mason Street Vacaville\, CA 95688
UID:e.1559.2037
SEQUENCE:3
DTSTAMP:20260419T201129Z
URL:https://business.vacavillechamber.com/events/details/joint-chamber-mixer-with-solano-hispanic-chamber-2037
END:VEVENT

END:VCALENDAR
